BEGIN:VCALENDAR
VERSION:2.0
PRODID:-//GL Heritage Brewing Company - ECPv4.9.12//NONSGML v1.0//EN
CALSCALE:GREGORIAN
METHOD:PUBLISH
X-WR-CALNAME:GL Heritage Brewing Company
X-ORIGINAL-URL:https://www.glheritagebrewing.ca
X-WR-CALDESC:Events for GL Heritage Brewing Company
BEGIN:VTIMEZONE
TZID:America/Toronto
BEGIN:DAYLIGHT
TZOFFSETFROM:-0500
TZOFFSETTO:-0400
TZNAME:EDT
DTSTART:20190310T070000
END:DAYLIGHT
BEGIN:STANDARD
TZOFFSETFROM:-0400
TZOFFSETTO:-0500
TZNAME:EST
DTSTART:20191103T060000
END:STANDARD
END:VTIMEZONE
BEGIN:VEVENT
DTSTART;VALUE=DATE:20191220
DTEND;VALUE=DATE:20191223
DTSTAMP:20260420T011440
CREATED:20191105T192459Z
LAST-MODIFIED:20191105T192549Z
UID:1476-1576800000-1577059199@www.glheritagebrewing.ca
SUMMARY:Bean's Ladle Food Truck All Weekend
DESCRIPTION:Serving up a delicious menu all weekend at GL Heritage Brewery – Fri 3-9\, Sat 12-7\, 12-7. \n
URL:https://www.glheritagebrewing.ca/event/beans-ladle-food-truck-all-weekend/
LOCATION:GL Heritage Brewing Co.\, 8728 Howard Avenue\, Essex Rd 9\, Amherstburg\, Ontario\, N9V0C8\, Canada
CATEGORIES:Food Trucks
ATTACH;FMTTYPE=image/jpeg:https://www.glheritagebrewing.ca/wp-content/uploads/2019/08/Beans-Ladle-Truck.jpg
END:VEVENT
END:VCALENDAR