BEGIN:VCALENDAR
VERSION:2.0
PRODID:-//GL Heritage Brewing Company - ECPv4.9.12//NONSGML v1.0//EN
CALSCALE:GREGORIAN
METHOD:PUBLISH
X-WR-CALNAME:GL Heritage Brewing Company
X-ORIGINAL-URL:https://www.glheritagebrewing.ca
X-WR-CALDESC:Events for GL Heritage Brewing Company
BEGIN:VTIMEZONE
TZID:America/Toronto
BEGIN:DAYLIGHT
TZOFFSETFROM:-0500
TZOFFSETTO:-0400
TZNAME:EDT
DTSTART:20190310T070000
END:DAYLIGHT
BEGIN:STANDARD
TZOFFSETFROM:-0400
TZOFFSETTO:-0500
TZNAME:EST
DTSTART:20191103T060000
END:STANDARD
END:VTIMEZONE
BEGIN:VEVENT
DTSTART;TZID=America/Toronto:20191121T183000
DTEND;TZID=America/Toronto:20191121T210000
DTSTAMP:20260419T233755
CREATED:20191113T193706Z
LAST-MODIFIED:20191114T214901Z
UID:1496-1574361000-1574370000@www.glheritagebrewing.ca
SUMMARY:Epicurious Apps & Beer Pairing Class
DESCRIPTION:Thursday November 21 – 6:30pm-9:30pm – $48.00 \nWant a fun and delicious night out\, one which will help ease your holiday party stress? Grab some friends and join us @GLHeritageBrewCo with @Epicure as we showcase and serve 6 tasty and super easy-to-make appetizers\, each paired with a different craft beer style. \nWith the holidays fast approaching\, it’s a great time to set yourself up for easy entertaining. GL Heritage and Epicure Spices has partnered to make your social life easier by showing quick appetizers and teaching you how to pair each with craft beers. We will help you be prepared for those surprise guests or just make your life easier for social events. \nWHAT TO EXPECT: At our appetizer pairing you will be treated to tasting 6 Craft Beers paired with scrumptious appetizers made from Epicure Spices.\nPLUS: You will take home a Package with Epicures famous Extraordinary Dip. As well we will have available Spices we have used that evening that are all gluten-free\, MSG-free\, low sodium Epicure spices and recipes to make all of the appetizers you tasted plus many more!!! \nThe class is $48.00 for the 6 course pairing and spice package for home. Please e-transfer to 4ahealthycupboard@gmail.com immediately after reserving your seat above. Remember to also send the e-transfer password to the same email address. \n
URL:https://www.glheritagebrewing.ca/event/epicurious-apps-beer-pairing-class/
LOCATION:GL Heritage Brewing Co.\, 8728 Howard Avenue\, Essex Rd 9\, Amherstburg\, Ontario\, N9V0C8\, Canada
CATEGORIES:Class,Experiential Event
ATTACH;FMTTYPE=image/jpeg:https://www.glheritagebrewing.ca/wp-content/uploads/2019/11/Epicurious-Appetizers.jpg
END:VEVENT
END:VCALENDAR