BEGIN:VCALENDAR
VERSION:2.0
PRODID:-//GL Heritage Brewing Company - ECPv4.9.12//NONSGML v1.0//EN
CALSCALE:GREGORIAN
METHOD:PUBLISH
X-WR-CALNAME:GL Heritage Brewing Company
X-ORIGINAL-URL:https://www.glheritagebrewing.ca
X-WR-CALDESC:Events for GL Heritage Brewing Company
BEGIN:VTIMEZONE
TZID:America/Toronto
BEGIN:DAYLIGHT
TZOFFSETFROM:-0500
TZOFFSETTO:-0400
TZNAME:EDT
DTSTART:20190310T070000
END:DAYLIGHT
BEGIN:STANDARD
TZOFFSETFROM:-0400
TZOFFSETTO:-0500
TZNAME:EST
DTSTART:20191103T060000
END:STANDARD
END:VTIMEZONE
BEGIN:VEVENT
DTSTART;TZID=America/Toronto:20191213T150000
DTEND;TZID=America/Toronto:20191215T190000
DTSTAMP:20260419T234454
CREATED:20191113T190327Z
LAST-MODIFIED:20191113T190327Z
UID:1485-1576249200-1576436400@www.glheritagebrewing.ca
SUMMARY:Nonna's Authentic Italian Pizza All Weekend
DESCRIPTION:
URL:https://www.glheritagebrewing.ca/event/nonnas-authentic-italian-pizza-all-weekend/
LOCATION:GL Heritage Brewing Co.\, 8728 Howard Avenue\, Essex Rd 9\, Amherstburg\, Ontario\, N9V0C8\, Canada
CATEGORIES:Food Trucks
ATTACH;FMTTYPE=image/jpeg:https://www.glheritagebrewing.ca/wp-content/uploads/2019/08/5A1C6355-BB6C-40D4-8D0C-33238BAFBC45.jpeg
END:VEVENT
END:VCALENDAR