BEGIN:VCALENDAR
VERSION:2.0
PRODID:-//GL Heritage Brewing Company - ECPv4.9.12//NONSGML v1.0//EN
CALSCALE:GREGORIAN
METHOD:PUBLISH
X-WR-CALNAME:GL Heritage Brewing Company
X-ORIGINAL-URL:https://www.glheritagebrewing.ca
X-WR-CALDESC:Events for GL Heritage Brewing Company
BEGIN:VTIMEZONE
TZID:America/Toronto
BEGIN:DAYLIGHT
TZOFFSETFROM:-0500
TZOFFSETTO:-0400
TZNAME:EDT
DTSTART:20190310T070000
END:DAYLIGHT
BEGIN:STANDARD
TZOFFSETFROM:-0400
TZOFFSETTO:-0500
TZNAME:EST
DTSTART:20191103T060000
END:STANDARD
END:VTIMEZONE
BEGIN:VEVENT
DTSTART;TZID=America/Toronto:20191206T150000
DTEND;TZID=America/Toronto:20191208T190000
DTSTAMP:20260419T233923
CREATED:20191113T190202Z
LAST-MODIFIED:20191206T183602Z
UID:1483-1575644400-1575831600@www.glheritagebrewing.ca
SUMMARY:Rob's Incredible Mennonite Menu All Wknd
DESCRIPTION:\nROBS Culinary Motion Food Truck from Leamington is back with another incredible menu!!  Can’t wait to dive into these savoury comfort foods part of the Mennonite culture.  Every one of these items will pair soooo well with our craft beer!!\n\n\n\nCottage Cheese Stuffed Perogies with a Strawberry Rhubarb Compote $8.00 \n\n\nHearty Chicken Soup $5.00 \n\n\nBeef & Cabbage Borscht $5.00 \n\n\nPotato & Sausage with Dill Borscht $5.00 \n\n\nMennonite Sausage with Mashed Potatoes & Country Gravy $10.00 \n\n\nMennonite style Schnitzel with Pasta n Cream sauce $10.00 \n\n\nBaked Ham & Swiss on a Kaiser – 1/2 lb of meat $10.00 \nAdd a soup to the sandwich $3.00 \n\n\n\n\n#amherstburg #yqg #glheritage #mennonite #leamington #delicious #comfortfood #eatlocal #drinklocal #beerandfood #chef #foodtruck #weekend\n\n
URL:https://www.glheritagebrewing.ca/event/robs-culinary-motion-food-truck-all-weekend-2/
LOCATION:GL Heritage Brewing Co.\, 8728 Howard Avenue\, Essex Rd 9\, Amherstburg\, Ontario\, N9V0C8\, Canada
CATEGORIES:Food Trucks
ATTACH;FMTTYPE=image/jpeg:https://www.glheritagebrewing.ca/wp-content/uploads/2019/09/9116DCAF-A486-41B2-A2AF-482487F05061.jpeg
END:VEVENT
END:VCALENDAR